BEGIN:VCALENDAR
VERSION:2.0
PRODID:icalendar-ruby
CALSCALE:GREGORIAN
METHOD:PUBLISH
BEGIN:VEVENT
DTSTAMP:20260424T024739Z
UID:28-1541137@rectifychurch.org
DTSTART:20261021T220000Z
DTEND:20261021T230000Z
CLASS:PUBLIC
CREATED:20260423T212525
DESCRIPTION:Wednesday Nights @ 6PM\n(Enter Through Lower Level)\nFor More I
 nformation Contact: Cathy Bos ~ 616.890.8836\n \n
LAST-MODIFIED:20260423T212525
LOCATION:247 N. Main St.\, Allegan\, MI 49010
SUMMARY:Women's Bible Study
URL;VALUE=URI:https://rectifychurch.org/events/womens-bible-study/2026-10-2
 1
ATTACH;FILENAME=Screenshot-2026-03-31-at-10.26.48PM.png;FMTTYPE=image/png:h
 ttps://dq5pwpg1q8ru0.cloudfront.net/2026/04/01/02/27/56/9a88138f-5967-482f
 -8cee-bea3696e45bf/Screenshot-2026-03-31-at-10.26.48PM.png
END:VEVENT
END:VCALENDAR
